Package: ASSIGN Version: 1.45.0 Command: /home/biocbuild/R/R/bin/R CMD build --keep-empty-dirs --no-resave-data ASSIGN StartedAt: 2025-10-16 23:03:40 -0000 (Thu, 16 Oct 2025) EndedAt: 2025-10-16 23:03:48 -0000 (Thu, 16 Oct 2025) EllapsedTime: 8.0 seconds RetCode: 0 Status: OK PackageFile: ASSIGN_1.45.0.tar.gz PackageFileSize: 1.685 MiB