Package: ASSIGN Version: 1.45.0 Command: F:\biocbuild\bbs-3.22-bioc\R\bin\R.exe CMD check --no-multiarch --install=check:ASSIGN.install-out.txt --library=F:\biocbuild\bbs-3.22-bioc\R\library --no-vignettes --timings ASSIGN_1.45.0.tar.gz StartedAt: 2025-08-15 00:34:58 -0400 (Fri, 15 Aug 2025) EndedAt: 2025-08-15 00:35:55 -0400 (Fri, 15 Aug 2025) EllapsedTime: 56.5 seconds RetCode: 0 Status: OK CheckDir: ASSIGN.Rcheck Warnings: 0