Package: ASSIGN Version: 1.45.0 Command: /home/biocbuild/bbs-3.22-bioc/R/bin/R CMD INSTALL ASSIGN StartedAt: 2025-10-19 15:29:50 -0400 (Sun, 19 Oct 2025) EndedAt: 2025-10-19 15:29:53 -0400 (Sun, 19 Oct 2025) EllapsedTime: 3.2 seconds RetCode: 0 Status: OK