Package: ASSIGN Version: 1.45.0 Command: /Library/Frameworks/R.framework/Resources/bin/R CMD INSTALL ASSIGN StartedAt: 2025-10-17 15:09:43 -0400 (Fri, 17 Oct 2025) EndedAt: 2025-10-17 15:09:45 -0400 (Fri, 17 Oct 2025) EllapsedTime: 1.7 seconds RetCode: 0 Status: OK