Package: ASSET Version: 2.27.0 Command: /home/biocbuild/R/R/bin/R CMD INSTALL ASSET StartedAt: 2025-10-16 21:14:47 -0000 (Thu, 16 Oct 2025) EndedAt: 2025-10-16 21:16:12 -0000 (Thu, 16 Oct 2025) EllapsedTime: 84.9 seconds RetCode: 0 Status: OK