Package: ASSET Version: 2.27.0 Command: /home/biocbuild/R/R/bin/R CMD check --install=check:ASSET.install-out.txt --library=/home/biocbuild/R/R/site-library --no-vignettes --timings ASSET_2.27.0.tar.gz StartedAt: 2025-10-21 04:33:15 -0000 (Tue, 21 Oct 2025) EndedAt: 2025-10-21 04:35:46 -0000 (Tue, 21 Oct 2025) EllapsedTime: 151.1 seconds RetCode: 0 Status: OK CheckDir: ASSET.Rcheck Warnings: 0