Package: ASSET Version: 2.27.0 Command: /home/biocbuild/R/R/bin/R CMD build --keep-empty-dirs --no-resave-data ASSET StartedAt: 2025-10-16 23:03:33 -0000 (Thu, 16 Oct 2025) EndedAt: 2025-10-16 23:03:52 -0000 (Thu, 16 Oct 2025) EllapsedTime: 19.0 seconds RetCode: 0 Status: OK PackageFile: ASSET_2.27.0.tar.gz PackageFileSize: 318.2 KiB