Package: ASSET Version: 2.27.0 Command: F:\biocbuild\bbs-3.22-bioc\R\bin\R.exe CMD check --no-multiarch --install=check:ASSET.install-out.txt --library=F:\biocbuild\bbs-3.22-bioc\R\library --no-vignettes --timings ASSET_2.27.0.tar.gz StartedAt: 2025-08-15 00:34:57 -0400 (Fri, 15 Aug 2025) EndedAt: 2025-08-15 00:37:29 -0400 (Fri, 15 Aug 2025) EllapsedTime: 152.9 seconds RetCode: 0 Status: OK CheckDir: ASSET.Rcheck Warnings: 0