Package: ASSET Version: 2.27.0 Command: rm -rf ASSET.buildbin-libdir && mkdir ASSET.buildbin-libdir && F:\biocbuild\bbs-3.22-bioc\R\bin\R.exe CMD INSTALL --build --library=ASSET.buildbin-libdir ASSET_2.27.0.tar.gz StartedAt: 2025-08-15 09:44:50 -0400 (Fri, 15 Aug 2025) EndedAt: 2025-08-15 09:45:07 -0400 (Fri, 15 Aug 2025) EllapsedTime: 17.6 seconds RetCode: 0 Status: OK PackageFile: ASSET_2.27.0.zip PackageFileSize: 478.6 KiB