Package: ASSET Version: 2.27.0 Command: /home/biocbuild/bbs-3.22-bioc/R/bin/R CMD INSTALL ASSET StartedAt: 2025-10-19 15:07:38 -0400 (Sun, 19 Oct 2025) EndedAt: 2025-10-19 15:08:11 -0400 (Sun, 19 Oct 2025) EllapsedTime: 33.3 seconds RetCode: 0 Status: OK