Package: ASSET Version: 2.27.0 Command: /home/biocbuild/bbs-3.22-bioc/R/bin/R CMD build --keep-empty-dirs --no-resave-data --md5 ASSET StartedAt: 2025-10-19 16:15:45 -0400 (Sun, 19 Oct 2025) EndedAt: 2025-10-19 16:16:01 -0400 (Sun, 19 Oct 2025) EllapsedTime: 16.0 seconds RetCode: 0 Status: OK PackageFile: ASSET_2.27.0.tar.gz PackageFileSize: 323.7 KiB