Package: ASSET Version: 2.27.0 Command: /Library/Frameworks/R.framework/Resources/bin/R CMD INSTALL ASSET StartedAt: 2025-10-19 15:10:21 -0400 (Sun, 19 Oct 2025) EndedAt: 2025-10-19 15:11:24 -0400 (Sun, 19 Oct 2025) EllapsedTime: 63.5 seconds RetCode: 0 Status: OK