Package: ASSET Version: 2.27.0 Command: /Library/Frameworks/R.framework/Resources/bin/R CMD check --install=check:ASSET.install-out.txt --library=/Library/Frameworks/R.framework/Resources/library --no-vignettes --timings ASSET_2.27.0.tar.gz StartedAt: 2025-10-19 20:22:32 -0400 (Sun, 19 Oct 2025) EndedAt: 2025-10-19 20:24:50 -0400 (Sun, 19 Oct 2025) EllapsedTime: 138.4 seconds RetCode: 0 Status: OK CheckDir: ASSET.Rcheck Warnings: 0