Package: ASSET Version: 2.27.0 Command: rm -rf ASSET.buildbin-libdir && mkdir ASSET.buildbin-libdir && /Users/biocbuild/BBS/utils/build-universal.sh ASSET_2.27.0.tar.gz /Library/Frameworks/R.framework/Resources/bin/R ASSET.buildbin-libdir StartedAt: 2025-10-20 02:56:46 -0400 (Mon, 20 Oct 2025) EndedAt: 2025-10-20 02:57:00 -0400 (Mon, 20 Oct 2025) EllapsedTime: 14.0 seconds RetCode: 0 Status: OK PackageFile: ASSET_2.27.0.tgz PackageFileSize: 475 KiB