Package: ASICS Version: 2.25.0 Command: /home/biocbuild/bbs-3.22-bioc/R/bin/R CMD check --install=check:ASICS.install-out.txt --library=/home/biocbuild/bbs-3.22-bioc/R/site-library --timings ASICS_2.25.0.tar.gz StartedAt: 2025-10-28 21:05:03 -0400 (Tue, 28 Oct 2025) EndedAt: 2025-10-28 21:18:16 -0400 (Tue, 28 Oct 2025) EllapsedTime: 793.1 seconds RetCode: 0 Status: WARNINGS CheckDir: ASICS.Rcheck Warnings: 1