Package: ASICS Version: 2.25.0 Command: /Library/Frameworks/R.framework/Resources/bin/R CMD INSTALL ASICS StartedAt: 2025-10-26 15:11:24 -0400 (Sun, 26 Oct 2025) EndedAt: 2025-10-26 15:11:37 -0400 (Sun, 26 Oct 2025) EllapsedTime: 13.5 seconds RetCode: 0 Status: OK