Package: ASICS Version: 2.25.0 Command: /Library/Frameworks/R.framework/Resources/bin/R CMD check --install=check:ASICS.install-out.txt --library=/Library/Frameworks/R.framework/Resources/library --no-vignettes --timings ASICS_2.25.0.tar.gz StartedAt: 2025-10-27 18:28:47 -0400 (Mon, 27 Oct 2025) EndedAt: 2025-10-27 18:34:00 -0400 (Mon, 27 Oct 2025) EllapsedTime: 312.8 seconds RetCode: 0 Status: WARNINGS CheckDir: ASICS.Rcheck Warnings: 1