Package: ASGSCA Version: 1.44.0 Command: /Library/Frameworks/R.framework/Resources/bin/R CMD INSTALL ASGSCA StartedAt: 2025-11-17 16:58:17 -0500 (Mon, 17 Nov 2025) EndedAt: 2025-11-17 16:58:19 -0500 (Mon, 17 Nov 2025) EllapsedTime: 2.4 seconds RetCode: 0 Status: OK