Package: ASGSCA Version: 1.44.0 Command: /Library/Frameworks/R.framework/Resources/bin/R CMD build --keep-empty-dirs --no-resave-data ASGSCA StartedAt: 2025-11-17 19:06:39 -0500 (Mon, 17 Nov 2025) EndedAt: 2025-11-17 19:07:37 -0500 (Mon, 17 Nov 2025) EllapsedTime: 57.5 seconds RetCode: 0 Status: OK PackageFile: ASGSCA_1.44.0.tar.gz PackageFileSize: 1.293 MiB