Package: ASGSCA Version: 1.44.0 Command: rm -rf ASGSCA.buildbin-libdir && mkdir ASGSCA.buildbin-libdir && /Users/biocbuild/BBS/utils/build-universal.sh ASGSCA_1.44.0.tar.gz /Library/Frameworks/R.framework/Resources/bin/R ASGSCA.buildbin-libdir StartedAt: 2025-11-18 15:06:30 -0500 (Tue, 18 Nov 2025) EndedAt: 2025-11-18 15:06:34 -0500 (Tue, 18 Nov 2025) EllapsedTime: 4.0 seconds RetCode: 0 Status: OK PackageFile: ASGSCA_1.44.0.tgz PackageFileSize: 877.5 KiB