Package: ASAFE Version: 1.35.0 Command: /home/biocbuild/R/R/bin/R CMD INSTALL ASAFE StartedAt: 2025-10-16 21:08:12 -0000 (Thu, 16 Oct 2025) EndedAt: 2025-10-16 21:08:28 -0000 (Thu, 16 Oct 2025) EllapsedTime: 15.8 seconds RetCode: 0 Status: OK