Package: ASAFE Version: 1.35.0 Command: F:\biocbuild\bbs-3.22-bioc\R\bin\R.exe CMD check --no-multiarch --install=check:ASAFE.install-out.txt --library=F:\biocbuild\bbs-3.22-bioc\R\library --no-vignettes --timings ASAFE_1.35.0.tar.gz StartedAt: 2025-08-15 00:34:11 -0400 (Fri, 15 Aug 2025) EndedAt: 2025-08-15 00:34:40 -0400 (Fri, 15 Aug 2025) EllapsedTime: 29.5 seconds RetCode: 0 Status: OK CheckDir: ASAFE.Rcheck Warnings: 0