Package: ASAFE Version: 1.35.0 Command: /Library/Frameworks/R.framework/Resources/bin/R CMD check --install=check:ASAFE.install-out.txt --library=/Library/Frameworks/R.framework/Resources/library --no-vignettes --timings ASAFE_1.35.0.tar.gz StartedAt: 2025-10-19 18:26:27 -0400 (Sun, 19 Oct 2025) EndedAt: 2025-10-19 18:26:38 -0400 (Sun, 19 Oct 2025) EllapsedTime: 11.1 seconds RetCode: 0 Status: OK CheckDir: ASAFE.Rcheck Warnings: 0