Package: ASAFE Version: 1.35.0 Command: /Library/Frameworks/R.framework/Resources/bin/R CMD build --keep-empty-dirs --no-resave-data ASAFE StartedAt: 2025-10-19 15:38:29 -0400 (Sun, 19 Oct 2025) EndedAt: 2025-10-19 15:38:33 -0400 (Sun, 19 Oct 2025) EllapsedTime: 4.1 seconds RetCode: 0 Status: OK PackageFile: ASAFE_1.35.0.tar.gz PackageFileSize: 425.4 KiB