Package: ASAFE Version: 1.35.0 Command: rm -rf ASAFE.buildbin-libdir && mkdir ASAFE.buildbin-libdir && /Users/biocbuild/BBS/utils/build-universal.sh ASAFE_1.35.0.tar.gz /Library/Frameworks/R.framework/Resources/bin/R ASAFE.buildbin-libdir StartedAt: 2025-10-19 22:50:45 -0400 (Sun, 19 Oct 2025) EndedAt: 2025-10-19 22:50:47 -0400 (Sun, 19 Oct 2025) EllapsedTime: 2.0 seconds RetCode: 0 Status: OK PackageFile: ASAFE_1.35.0.tgz PackageFileSize: 585.6 KiB