Package: ARRmNormalization Version: 1.49.0 Command: /home/biocbuild/bbs-3.22-bioc/R/bin/R CMD build --keep-empty-dirs --no-resave-data --md5 ARRmNormalization StartedAt: 2025-10-27 16:16:02 -0400 (Mon, 27 Oct 2025) EndedAt: 2025-10-27 16:16:30 -0400 (Mon, 27 Oct 2025) EllapsedTime: 28.0 seconds RetCode: 0 Status: OK PackageFile: ARRmNormalization_1.49.0.tar.gz PackageFileSize: 1.076 MiB