Package: ARRmNormalization Version: 1.49.0 Command: /Library/Frameworks/R.framework/Resources/bin/R CMD check --install=check:ARRmNormalization.install-out.txt --library=/Library/Frameworks/R.framework/Resources/library --no-vignettes --timings ARRmNormalization_1.49.0.tar.gz StartedAt: 2025-10-27 19:56:45 -0400 (Mon, 27 Oct 2025) EndedAt: 2025-10-27 19:58:27 -0400 (Mon, 27 Oct 2025) EllapsedTime: 102.0 seconds RetCode: 0 Status: OK CheckDir: ARRmNormalization.Rcheck Warnings: 0