Package: AMOUNTAIN Version: 1.35.0 Command: /home/biocbuild/bbs-3.22-bioc/R/bin/R CMD INSTALL AMOUNTAIN StartedAt: 2025-10-03 15:10:42 -0400 (Fri, 03 Oct 2025) EndedAt: 2025-10-03 15:10:50 -0400 (Fri, 03 Oct 2025) EllapsedTime: 8.4 seconds RetCode: 0 Status: OK