Package: ADaCGH2 Version: 2.49.0 Command: /Library/Frameworks/R.framework/Resources/bin/R CMD build --keep-empty-dirs --no-resave-data ADaCGH2 StartedAt: 2025-10-15 15:36:08 -0400 (Wed, 15 Oct 2025) EndedAt: 2025-10-15 15:36:57 -0400 (Wed, 15 Oct 2025) EllapsedTime: 48.6 seconds RetCode: 0 Status: OK PackageFile: ADaCGH2_2.49.0.tar.gz PackageFileSize: 1.172 MiB