Package: ADImpute Version: 1.19.0 Command: /home/biocbuild/bbs-3.22-bioc/R/bin/R CMD check --install=check:ADImpute.install-out.txt --library=/home/biocbuild/bbs-3.22-bioc/R/site-library --timings ADImpute_1.19.0.tar.gz StartedAt: 2025-10-27 20:55:11 -0400 (Mon, 27 Oct 2025) EndedAt: 2025-10-27 20:57:23 -0400 (Mon, 27 Oct 2025) EllapsedTime: 132.2 seconds RetCode: 0 Status: WARNINGS CheckDir: ADImpute.Rcheck Warnings: 1