Package: ADImpute Version: 1.19.0 Command: rm -rf ADImpute.buildbin-libdir && mkdir ADImpute.buildbin-libdir && /Users/biocbuild/BBS/utils/build-universal.sh ADImpute_1.19.0.tar.gz /Library/Frameworks/R.framework/Resources/bin/R ADImpute.buildbin-libdir StartedAt: 2025-10-25 01:26:59 -0400 (Sat, 25 Oct 2025) EndedAt: 2025-10-25 01:27:13 -0400 (Sat, 25 Oct 2025) EllapsedTime: 13.8 seconds RetCode: 0 Status: OK PackageFile: ADImpute_1.19.0.tgz PackageFileSize: 2.297 MiB