Package: ADImpute Version: 1.19.0 Command: /Library/Frameworks/R.framework/Resources/bin/R CMD INSTALL ADImpute StartedAt: 2025-10-24 15:15:42 -0400 (Fri, 24 Oct 2025) EndedAt: 2025-10-24 15:15:44 -0400 (Fri, 24 Oct 2025) EllapsedTime: 2.3 seconds RetCode: 0 Status: OK