Package: ADImpute Version: 1.19.0 Command: /Library/Frameworks/R.framework/Resources/bin/R CMD check --install=check:ADImpute.install-out.txt --library=/Library/Frameworks/R.framework/Resources/library --no-vignettes --timings ADImpute_1.19.0.tar.gz StartedAt: 2025-10-24 18:23:10 -0400 (Fri, 24 Oct 2025) EndedAt: 2025-10-24 18:24:09 -0400 (Fri, 24 Oct 2025) EllapsedTime: 58.9 seconds RetCode: 0 Status: WARNINGS CheckDir: ADImpute.Rcheck Warnings: 1