Package: ADImpute Version: 1.19.0 Command: /Library/Frameworks/R.framework/Resources/bin/R CMD build --keep-empty-dirs --no-resave-data ADImpute StartedAt: 2025-10-24 15:38:25 -0400 (Fri, 24 Oct 2025) EndedAt: 2025-10-24 15:38:37 -0400 (Fri, 24 Oct 2025) EllapsedTime: 12.1 seconds RetCode: 0 Status: OK PackageFile: ADImpute_1.19.0.tar.gz PackageFileSize: 2.117 MiB