Package: ADImpute Version: 1.19.0 Maintainer: Ana Carolina Leote MaintainerEmail: anacarolinaleote at gmail.com git_url: https://git.bioconductor.org/packages/ADImpute git_branch: devel git_last_commit: 018a64b git_last_commit_date: 2025-04-15 12:13:31 -0400 (Tue, 15 Apr 2025)