Package: ADAPT Version: 1.3.0 Command: /Library/Frameworks/R.framework/Resources/bin/R CMD INSTALL ADAPT StartedAt: 2025-10-16 15:51:26 -0400 (Thu, 16 Oct 2025) EndedAt: 2025-10-16 15:52:01 -0400 (Thu, 16 Oct 2025) EllapsedTime: 34.7 seconds RetCode: 1 Status: ERROR