Package: ADAPT Version: 1.3.0 Command: /Library/Frameworks/R.framework/Resources/bin/R CMD build --keep-empty-dirs --no-resave-data ADAPT StartedAt: 2025-10-16 16:25:23 -0400 (Thu, 16 Oct 2025) EndedAt: 2025-10-16 16:25:49 -0400 (Thu, 16 Oct 2025) EllapsedTime: 26.3 seconds RetCode: 1 Status: ERROR PackageFile: None PackageFileSize: NA