Package: ADAM Version: 1.25.0 Command: /home/biocbuild/R/R/bin/R CMD INSTALL ADAM StartedAt: 2025-10-20 21:07:16 -0000 (Mon, 20 Oct 2025) EndedAt: 2025-10-20 21:07:58 -0000 (Mon, 20 Oct 2025) EllapsedTime: 41.7 seconds RetCode: 0 Status: OK