Package: ADAM Version: 1.25.0 Command: F:\biocbuild\bbs-3.22-bioc\R\bin\R.exe CMD check --no-multiarch --install=check:ADAM.install-out.txt --library=F:\biocbuild\bbs-3.22-bioc\R\library --no-vignettes --timings ADAM_1.25.0.tar.gz StartedAt: 2025-08-15 00:20:46 -0400 (Fri, 15 Aug 2025) EndedAt: 2025-08-15 00:24:59 -0400 (Fri, 15 Aug 2025) EllapsedTime: 252.7 seconds RetCode: 0 Status: OK CheckDir: ADAM.Rcheck Warnings: 0