Package: ADAM Version: 1.25.0 Command: chmod a+r ADAM -R && F:\biocbuild\bbs-3.22-bioc\R\bin\R.exe CMD build --keep-empty-dirs --no-resave-data ADAM StartedAt: 2025-08-14 18:21:16 -0400 (Thu, 14 Aug 2025) EndedAt: 2025-08-14 18:23:32 -0400 (Thu, 14 Aug 2025) EllapsedTime: 135.6 seconds RetCode: 0 Status: OK PackageFile: ADAM_1.25.0.tar.gz PackageFileSize: 321.3 KiB