Package: ADAM Version: 1.25.0 Command: /home/biocbuild/bbs-3.22-bioc/R/bin/R CMD INSTALL ADAM StartedAt: 2025-10-20 15:43:51 -0400 (Mon, 20 Oct 2025) EndedAt: 2025-10-20 15:44:23 -0400 (Mon, 20 Oct 2025) EllapsedTime: 32.4 seconds RetCode: 0 Status: OK