Package: ADAM Version: 1.25.0 Command: /home/biocbuild/bbs-3.22-bioc/R/bin/R CMD check --install=check:ADAM.install-out.txt --library=/home/biocbuild/bbs-3.22-bioc/R/site-library --timings ADAM_1.25.0.tar.gz StartedAt: 2025-10-19 20:53:06 -0400 (Sun, 19 Oct 2025) EndedAt: 2025-10-19 20:56:18 -0400 (Sun, 19 Oct 2025) EllapsedTime: 191.2 seconds RetCode: 0 Status: OK CheckDir: ADAM.Rcheck Warnings: 0