Package: ADAM Version: 1.25.0 Command: /Library/Frameworks/R.framework/Resources/bin/R CMD INSTALL ADAM StartedAt: 2025-10-19 15:20:03 -0400 (Sun, 19 Oct 2025) EndedAt: 2025-10-19 15:20:16 -0400 (Sun, 19 Oct 2025) EllapsedTime: 12.8 seconds RetCode: 0 Status: OK