Package: ACME Version: 2.65.0 Command: chmod a+r ACME -R && F:\biocbuild\bbs-3.22-bioc\R\bin\R.exe CMD build --keep-empty-dirs --no-resave-data ACME StartedAt: 2025-08-14 18:21:16 -0400 (Thu, 14 Aug 2025) EndedAt: 2025-08-14 18:21:24 -0400 (Thu, 14 Aug 2025) EllapsedTime: 8.1 seconds RetCode: 1 Status: ERROR PackageFile: None PackageFileSize: NA