Package: ACME Version: 2.65.0 Command: rm -rf ACME.buildbin-libdir && mkdir ACME.buildbin-libdir && /Users/biocbuild/BBS/utils/build-universal.sh ACME_2.65.0.tar.gz /Library/Frameworks/R.framework/Resources/bin/R ACME.buildbin-libdir StartedAt: 2025-10-20 02:55:32 -0400 (Mon, 20 Oct 2025) EndedAt: 2025-10-20 02:55:54 -0400 (Mon, 20 Oct 2025) EllapsedTime: 22.0 seconds RetCode: 0 Status: OK PackageFile: ACME_2.65.0.tgz PackageFileSize: 10.16 MiB