Package: ACME Version: 2.65.0 Command: /Library/Frameworks/R.framework/Resources/bin/R CMD INSTALL ACME StartedAt: 2025-10-08 15:12:52 -0400 (Wed, 08 Oct 2025) EndedAt: 2025-10-08 15:12:55 -0400 (Wed, 08 Oct 2025) EllapsedTime: 2.3 seconds RetCode: 0 Status: OK