Package: ACME Version: 2.65.0 Command: /Library/Frameworks/R.framework/Resources/bin/R CMD build --keep-empty-dirs --no-resave-data ACME StartedAt: 2025-10-08 15:41:10 -0400 (Wed, 08 Oct 2025) EndedAt: 2025-10-08 15:41:22 -0400 (Wed, 08 Oct 2025) EllapsedTime: 12.1 seconds RetCode: 0 Status: OK PackageFile: ACME_2.65.0.tar.gz PackageFileSize: 9.91 MiB