Package: ACE Version: 1.28.0 Command: /home/biocbuild/R/R/bin/R CMD build --keep-empty-dirs --no-resave-data ACE StartedAt: 2025-11-13 23:19:18 -0000 (Thu, 13 Nov 2025) EndedAt: 2025-11-13 23:20:47 -0000 (Thu, 13 Nov 2025) EllapsedTime: 89.1 seconds RetCode: 0 Status: OK PackageFile: ACE_1.28.0.tar.gz PackageFileSize: 1.288 MiB