Package: ACE Version: 1.27.0 Command: F:\biocbuild\bbs-3.22-bioc\R\bin\R.exe CMD check --no-multiarch --install=check:ACE.install-out.txt --library=F:\biocbuild\bbs-3.22-bioc\R\library --no-vignettes --timings ACE_1.27.0.tar.gz StartedAt: 2025-08-15 00:20:46 -0400 (Fri, 15 Aug 2025) EndedAt: 2025-08-15 00:24:04 -0400 (Fri, 15 Aug 2025) EllapsedTime: 197.8 seconds RetCode: 0 Status: OK CheckDir: ACE.Rcheck Warnings: 0