Package: ACE Version: 1.27.0 Command: chmod a+r ACE -R && F:\biocbuild\bbs-3.22-bioc\R\bin\R.exe CMD build --keep-empty-dirs --no-resave-data ACE StartedAt: 2025-08-14 18:21:16 -0400 (Thu, 14 Aug 2025) EndedAt: 2025-08-14 18:22:34 -0400 (Thu, 14 Aug 2025) EllapsedTime: 77.6 seconds RetCode: 0 Status: OK PackageFile: ACE_1.27.0.tar.gz PackageFileSize: 835.8 KiB